BEGIN:VCALENDAR
VERSION:2.0
PRODID:-//Universidad Libre de Infantes - ECPv6.15.20//NONSGML v1.0//EN
CALSCALE:GREGORIAN
METHOD:PUBLISH
X-ORIGINAL-URL:https://universidadlibreinfantes.es
X-WR-CALDESC:Eventos para Universidad Libre de Infantes
REFRESH-INTERVAL;VALUE=DURATION:PT1H
X-Robots-Tag:noindex
X-PUBLISHED-TTL:PT1H
BEGIN:VTIMEZONE
TZID:Europe/Paris
BEGIN:DAYLIGHT
TZOFFSETFROM:+0100
TZOFFSETTO:+0200
TZNAME:CEST
DTSTART:20150329T010000
END:DAYLIGHT
BEGIN:STANDARD
TZOFFSETFROM:+0200
TZOFFSETTO:+0100
TZNAME:CET
DTSTART:20151025T010000
END:STANDARD
BEGIN:DAYLIGHT
TZOFFSETFROM:+0100
TZOFFSETTO:+0200
TZNAME:CEST
DTSTART:20160327T010000
END:DAYLIGHT
BEGIN:STANDARD
TZOFFSETFROM:+0200
TZOFFSETTO:+0100
TZNAME:CET
DTSTART:20161030T010000
END:STANDARD
BEGIN:DAYLIGHT
TZOFFSETFROM:+0100
TZOFFSETTO:+0200
TZNAME:CEST
DTSTART:20170326T010000
END:DAYLIGHT
BEGIN:STANDARD
TZOFFSETFROM:+0200
TZOFFSETTO:+0100
TZNAME:CET
DTSTART:20171029T010000
END:STANDARD
END:VTIMEZONE
BEGIN:VEVENT
DTSTART;TZID=Europe/Paris:20160615T193000
DTEND;TZID=Europe/Paris:20160615T213000
DTSTAMP:20260423T074143
CREATED:20160428T192448Z
LAST-MODIFIED:20170305T173804Z
UID:61221-1466019000-1466026200@universidadlibreinfantes.es
SUMMARY:Presentacion Cursos de Verano 2016 en La Casa de Castilla La Mancha en Madrid
DESCRIPTION:El día 15 de junio de 2016\, a las 19:30 horas\, en La Casa de Castilla la Mancha: \n\nPresentación de los Cursos de Verano 2016 de la  Universidad Libre de Infantes «Santo Tomás de Villanueva»\nEl Dr. D José Ignacio Ruiz Rodríguez\, Presidente-Rector de la Universidad\, pronunciará la Conferencia “El colapso de Occidente o la crisis actual”\nProyección del primer dibujo animado de Don Quijote (1934) por D. Miguel Castro Muñíz\n\nCasa de Castilla La Mancha\nc/ La Paz\, número 4  – Primera Planta\n28012 Madrid
URL:https://universidadlibreinfantes.es/event/conferencia-y-presentacion-de-la-universidad-libre-de-infantes-santo-tomas-de-villanueva-en-la-casa-de-castilla-la-mancha/
LOCATION:Casa de Castilla La Mancha\, Calle de La Paz\, 4\, Madrid\, 28012\, España
CATEGORIES:Cine,Coloquios,Conferencias,El Quijote
ATTACH;FMTTYPE=image/jpeg:https://universidadlibreinfantes.es/wp-content/uploads/2016/04/Cursos-verano-ULI-2016_Pígina_02_p.jpg
END:VEVENT
BEGIN:VEVENT
DTSTART;TZID=Europe/Paris:20160618T200000
DTEND;TZID=Europe/Paris:20160618T220000
DTSTAMP:20260423T074143
CREATED:20160610T100022Z
LAST-MODIFIED:20170305T173639Z
UID:62990-1466280000-1466287200@universidadlibreinfantes.es
SUMMARY:Inauguración Cursos de Verano 2016 en Villanueva De Los Infantes
DESCRIPTION:La Inauguración oficial de los Cursos de Verano 2016\, patrocinados por el Ayuntamiento de Villanueva de los Infantes\,  tendrá lugar el 18 de junio\, a las 20h\,  en la Casa de Cultura La Alhondiga de Villanueva de los Infantes. \nConferencia Magistral a cargo de Dr. D.  Justo Lacunza Balda: “De las primavera árabes al radicalismo islámico: algunos retos de nuestro tiempo” \nEntrega de reconocimientos. \nInterpretación Musical por la Coral Villanueva de los Infantes: Himno a Santo Tomás y Gaudeamus.
URL:https://universidadlibreinfantes.es/event/inauguracion-cursos-de-verano-2016-en-villanueva-de-los-infantes/
LOCATION:Casa de Cultura La Alhóndiga\, Calle General Pérez Ballesteros\, 1\, Villanueva de los Infantes\, Ciudad Real\, 13320\, España
CATEGORIES:Conferencias,Cursos,Inauguración,Islam
ATTACH;FMTTYPE=image/jpeg:https://universidadlibreinfantes.es/wp-content/uploads/2016/06/cursosverano2016_p-1.jpg
END:VEVENT
END:VCALENDAR