BEGIN:VCALENDAR
VERSION:2.0
PRODID:-//Universidad Libre de Infantes - ECPv6.15.20//NONSGML v1.0//EN
CALSCALE:GREGORIAN
METHOD:PUBLISH
X-WR-CALNAME:Universidad Libre de Infantes
X-ORIGINAL-URL:https://universidadlibreinfantes.es
X-WR-CALDESC:Eventos para Universidad Libre de Infantes
REFRESH-INTERVAL;VALUE=DURATION:PT1H
X-Robots-Tag:noindex
X-PUBLISHED-TTL:PT1H
BEGIN:VTIMEZONE
TZID:Europe/Paris
BEGIN:DAYLIGHT
TZOFFSETFROM:+0100
TZOFFSETTO:+0200
TZNAME:CEST
DTSTART:20150329T010000
END:DAYLIGHT
BEGIN:STANDARD
TZOFFSETFROM:+0200
TZOFFSETTO:+0100
TZNAME:CET
DTSTART:20151025T010000
END:STANDARD
BEGIN:DAYLIGHT
TZOFFSETFROM:+0100
TZOFFSETTO:+0200
TZNAME:CEST
DTSTART:20160327T010000
END:DAYLIGHT
BEGIN:STANDARD
TZOFFSETFROM:+0200
TZOFFSETTO:+0100
TZNAME:CET
DTSTART:20161030T010000
END:STANDARD
BEGIN:DAYLIGHT
TZOFFSETFROM:+0100
TZOFFSETTO:+0200
TZNAME:CEST
DTSTART:20170326T010000
END:DAYLIGHT
BEGIN:STANDARD
TZOFFSETFROM:+0200
TZOFFSETTO:+0100
TZNAME:CET
DTSTART:20171029T010000
END:STANDARD
END:VTIMEZONE
BEGIN:VEVENT
DTSTART;TZID=Europe/Paris:20160814T200000
DTEND;TZID=Europe/Paris:20160814T210000
DTSTAMP:20260423T043731
CREATED:20160622T110650Z
LAST-MODIFIED:20170305T171204Z
UID:63834-1471204800-1471208400@universidadlibreinfantes.es
SUMMARY:Imaginario del Siglo de Oro en el cine
DESCRIPTION:Charla-Conferencia a cargo de D.  Miguel Castro Muñíz: «Imaginario del Siglo de Oro en el cine» \nCon proyección de fragmentos de películas.
URL:https://universidadlibreinfantes.es/event/imaginario-del-siglo-de-oro-en-el-cine/
LOCATION:Fundación José María de Jaime\, Calle Rey Juan Carlos\, 32\, Villanueva de los Infantes\, Ciudad Real\, 13320\, España
CATEGORIES:Cine,Conferencias
ATTACH;FMTTYPE=image/jpeg:https://universidadlibreinfantes.es/wp-content/uploads/2016/06/event8.jpg
END:VEVENT
BEGIN:VEVENT
DTSTART;TZID=Europe/Paris:20160820T120000
DTEND;TZID=Europe/Paris:20160820T213000
DTSTAMP:20260423T043731
CREATED:20160625T155102Z
LAST-MODIFIED:20170305T170940Z
UID:65602-1471694400-1471728600@universidadlibreinfantes.es
SUMMARY:El Campo de Montiel y sus tesoros. "Miradas desde nuestro presente"
DESCRIPTION:«Tesoros de la Arquitectura Religiosa en el Campo de Montiel» \nD. Carlos Javier Rubio \nTesoros de la Arquitectura Civil en el Campo de Montiel \nD. Luis Riaza García \n«Hacia dónde caminamos\, propuestas y soluciones»\nD. Esteban Rodríguez Sánchez\n D. Raafael M. Ruiz Rodríguez \n 
URL:https://universidadlibreinfantes.es/event/el-campo-de-montiel-y-sus-tesoros-miradas-desde-nuestro-presente/
LOCATION:Casa de Cultura La Alhóndiga\, Calle General Pérez Ballesteros\, 1\, Villanueva de los Infantes\, Ciudad Real\, 13320\, España
CATEGORIES:Campo de Montiel,Coloquios,Conferencias,Cursos
ATTACH;FMTTYPE=image/jpeg:https://universidadlibreinfantes.es/wp-content/uploads/2016/06/event9.jpg
END:VEVENT
END:VCALENDAR