BEGIN:VCALENDAR
VERSION:2.0
PRODID:-//Universidad Libre de Infantes - ECPv6.15.20//NONSGML v1.0//EN
CALSCALE:GREGORIAN
METHOD:PUBLISH
X-ORIGINAL-URL:https://universidadlibreinfantes.es
X-WR-CALDESC:Eventos para Universidad Libre de Infantes
REFRESH-INTERVAL;VALUE=DURATION:PT1H
X-Robots-Tag:noindex
X-PUBLISHED-TTL:PT1H
BEGIN:VTIMEZONE
TZID:Europe/Paris
BEGIN:DAYLIGHT
TZOFFSETFROM:+0100
TZOFFSETTO:+0200
TZNAME:CEST
DTSTART:20150329T010000
END:DAYLIGHT
BEGIN:STANDARD
TZOFFSETFROM:+0200
TZOFFSETTO:+0100
TZNAME:CET
DTSTART:20151025T010000
END:STANDARD
BEGIN:DAYLIGHT
TZOFFSETFROM:+0100
TZOFFSETTO:+0200
TZNAME:CEST
DTSTART:20160327T010000
END:DAYLIGHT
BEGIN:STANDARD
TZOFFSETFROM:+0200
TZOFFSETTO:+0100
TZNAME:CET
DTSTART:20161030T010000
END:STANDARD
BEGIN:DAYLIGHT
TZOFFSETFROM:+0100
TZOFFSETTO:+0200
TZNAME:CEST
DTSTART:20170326T010000
END:DAYLIGHT
BEGIN:STANDARD
TZOFFSETFROM:+0200
TZOFFSETTO:+0100
TZNAME:CET
DTSTART:20171029T010000
END:STANDARD
END:VTIMEZONE
BEGIN:VEVENT
DTSTART;TZID=Europe/Paris:20161001T120000
DTEND;TZID=Europe/Paris:20161001T140000
DTSTAMP:20260423T013451
CREATED:20160625T164443Z
LAST-MODIFIED:20170305T172243Z
UID:65766-1475323200-1475330400@universidadlibreinfantes.es
SUMMARY:El español\, lo que nos une. Gramática española en el siglo de Oro: Jiménez Patón y Sánchez de las Brozas.
DESCRIPTION:Conferencia Magistral: César Antonio Molina \nMesa Redonda: Vicente Arias\, J. Francisco Rivero\, Crispín Gigsante de Villanueva de los Infantes\, Fuenllana\, Brozas\, Almedina
URL:https://universidadlibreinfantes.es/event/el-espanol-lo-que-nos-une-gramatica-espanola-en-el-siglo-de-oro-jimenez-paton-y-sanchez-de-las-brozas-2/
LOCATION:Brozas\, Convento de las Comendadoras. Auditorio\, Brozas\, Cáceres\, 10950\, España
CATEGORIES:Conferencias,Mesa Redonda
ATTACH;FMTTYPE=image/jpeg:https://universidadlibreinfantes.es/wp-content/uploads/2016/06/Cursos-verano-ULI-2016-hasta-septiembre_Pígina_12.jpg
END:VEVENT
END:VCALENDAR