BEGIN:VCALENDAR
VERSION:2.0
PRODID:-//Universidad Libre de Infantes - ECPv6.15.20//NONSGML v1.0//EN
CALSCALE:GREGORIAN
METHOD:PUBLISH
X-WR-CALNAME:Universidad Libre de Infantes
X-ORIGINAL-URL:https://universidadlibreinfantes.es
X-WR-CALDESC:Eventos para Universidad Libre de Infantes
REFRESH-INTERVAL;VALUE=DURATION:PT1H
X-Robots-Tag:noindex
X-PUBLISHED-TTL:PT1H
BEGIN:VTIMEZONE
TZID:Europe/Madrid
BEGIN:DAYLIGHT
TZOFFSETFROM:+0100
TZOFFSETTO:+0200
TZNAME:CEST
DTSTART:20160327T010000
END:DAYLIGHT
BEGIN:STANDARD
TZOFFSETFROM:+0200
TZOFFSETTO:+0100
TZNAME:CET
DTSTART:20161030T010000
END:STANDARD
BEGIN:DAYLIGHT
TZOFFSETFROM:+0100
TZOFFSETTO:+0200
TZNAME:CEST
DTSTART:20170326T010000
END:DAYLIGHT
BEGIN:STANDARD
TZOFFSETFROM:+0200
TZOFFSETTO:+0100
TZNAME:CET
DTSTART:20171029T010000
END:STANDARD
BEGIN:DAYLIGHT
TZOFFSETFROM:+0100
TZOFFSETTO:+0200
TZNAME:CEST
DTSTART:20180325T010000
END:DAYLIGHT
BEGIN:STANDARD
TZOFFSETFROM:+0200
TZOFFSETTO:+0100
TZNAME:CET
DTSTART:20181028T010000
END:STANDARD
END:VTIMEZONE
BEGIN:VEVENT
DTSTART;TZID=Europe/Madrid:20170715T200000
DTEND;TZID=Europe/Madrid:20170715T200000
DTSTAMP:20260422T104425
CREATED:20170703T200731Z
LAST-MODIFIED:20170703T200731Z
UID:86451-1500148800-1500148800@universidadlibreinfantes.es
SUMMARY:Inauguración Cursos de la U.L.I. Verano 2017 en Villanueva de los Infantes
DESCRIPTION:La Inauguración oficial y presentación de los Cursos de Verano 2017\, patrocinados por el Ayuntamiento de Villanueva de los Infantes\,  Casa de Cultura La Alhóndiga y la Fundación Bancaria La Caixa\, tendrá lugar el 15 de julio\, a las 20h\,  en la Casa de Cultura La Alhóndiga de Villanueva de los Infantes. \nConferencia Magistral a cargo de Dr. D. Carlos Guerrero Carranza: “Los constructores del humanismo y el Siglo de Oro” \nEntrega de Reconocimientos. \nHimno a Santo Tomás de Villanueva interpretado por el Coro Parroquial  San Andrés. \nSe servirá un cóctel a la finalización del acto.
URL:https://universidadlibreinfantes.es/event/inauguracion-cursos-de-la-u-l-i-verano-2017-en-villanueva-de-los-infantes/
LOCATION:Casa de Cultura La Alhóndiga\, Calle General Pérez Ballesteros\, 1\, Villanueva de los Infantes\, Ciudad Real\, 13320\, España
CATEGORIES:Conferencias,Cursos,Inauguración,Siglo de Oro
ATTACH;FMTTYPE=image/jpeg:https://universidadlibreinfantes.es/wp-content/uploads/2017/07/Cursos-verano-ULI-2017__Pg2-e1499112236991.jpg
END:VEVENT
END:VCALENDAR