BEGIN:VCALENDAR
VERSION:2.0
PRODID:-//Universidad Libre de Infantes - ECPv6.15.20//NONSGML v1.0//EN
CALSCALE:GREGORIAN
METHOD:PUBLISH
X-ORIGINAL-URL:https://universidadlibreinfantes.es
X-WR-CALDESC:Eventos para Universidad Libre de Infantes
REFRESH-INTERVAL;VALUE=DURATION:PT1H
X-Robots-Tag:noindex
X-PUBLISHED-TTL:PT1H
BEGIN:VTIMEZONE
TZID:Europe/Madrid
BEGIN:DAYLIGHT
TZOFFSETFROM:+0100
TZOFFSETTO:+0200
TZNAME:CEST
DTSTART:20160327T010000
END:DAYLIGHT
BEGIN:STANDARD
TZOFFSETFROM:+0200
TZOFFSETTO:+0100
TZNAME:CET
DTSTART:20161030T010000
END:STANDARD
BEGIN:DAYLIGHT
TZOFFSETFROM:+0100
TZOFFSETTO:+0200
TZNAME:CEST
DTSTART:20170326T010000
END:DAYLIGHT
BEGIN:STANDARD
TZOFFSETFROM:+0200
TZOFFSETTO:+0100
TZNAME:CET
DTSTART:20171029T010000
END:STANDARD
BEGIN:DAYLIGHT
TZOFFSETFROM:+0100
TZOFFSETTO:+0200
TZNAME:CEST
DTSTART:20180325T010000
END:DAYLIGHT
BEGIN:STANDARD
TZOFFSETFROM:+0200
TZOFFSETTO:+0100
TZNAME:CET
DTSTART:20181028T010000
END:STANDARD
END:VTIMEZONE
BEGIN:VEVENT
DTSTART;TZID=Europe/Madrid:20170811T100000
DTEND;TZID=Europe/Madrid:20170813T100000
DTSTAMP:20260422T090156
CREATED:20170705T174801Z
LAST-MODIFIED:20170705T203541Z
UID:86480-1502445600-1502618400@universidadlibreinfantes.es
SUMMARY:Taller de Pintura: "Más allá del color. El proceso pictórico tradicional"
DESCRIPTION:Taller de pintura impartido por  D. Javier Pérez Prada: “Más allá del color. El proceso pictórico tradicional” \nHorario: del viernes 11 al domingo 13 de agosto\, a las 10:00h.\, en el Convento de Santo Domingo. \nConferencias: \n\n\n\nViernes 11\, 19:30h: «Fundamentos del arte contemporáneo (emocional\, gramatical y conceptual)». Profesor D. Javier Pérez Prada\nSábado 12\, 19:30h: «Los nuevos lenguajes más allá del objeto; El ideal de belleza y la crisis del goce estético; y El arte como reivindicación social\, política y de la realidad».  Profesor D. Javier Pérez Prada\n\n\n\n 
URL:https://universidadlibreinfantes.es/event/taller-de-pintura-2017/
LOCATION:Convento de Santo Domingo\, Calle Frailes\, 1\, Villanueva de los Infantes\, Ciudad Real\, 13320\, España
CATEGORIES:Conferencias,Cursos,Taller
ATTACH;FMTTYPE=image/jpeg:https://universidadlibreinfantes.es/wp-content/uploads/2017/07/TALLER_PINTURA_2017.jpg
END:VEVENT
BEGIN:VEVENT
DTSTART;TZID=Europe/Madrid:20170815T200000
DTEND;TZID=Europe/Madrid:20170815T200000
DTSTAMP:20260422T090156
CREATED:20170705T214447Z
LAST-MODIFIED:20170815T095958Z
UID:86495-1502827200-1502827200@universidadlibreinfantes.es
SUMMARY:Mesa Redonda: El Español\, lo que nos une. Homenaje a Bartolomé Jiménez Patón
DESCRIPTION:Mesa Redonda: El Español\, lo que nos une. Homenaje a Bartolomé Jiménez Patón \nEl 15 de agosto\, a las 20:00h\, en el Salón de Actos del Ayuntamiento de Villanueva de los Infantes \nConferencia: Causas y efectos del hegemonismo del idioma inglés \nProfesor y Moderador: D. Rafael Fraguas de Pablo \nParticipantes: D. Vicente Arias Díaz\, D. J .Francisco Rivero\, D. José Mª Relucio Patón\, D. Crispín Gigante Pérez
URL:https://universidadlibreinfantes.es/event/mesa-redonda-el-espanol-lo-que-nos-une-homenaje-a-bartolome-jimenez-paton/
LOCATION:Salón de Actos del Ayuntamiento\, Plaza Mayor\, s/n\, Villanueva de los Infantes\, Ciudad Real\, 13320\, España
CATEGORIES:Bartolomé Jiménez Patón,Conferencias,Cursos,Mesa Redonda
ATTACH;FMTTYPE=image/jpeg:https://universidadlibreinfantes.es/wp-content/uploads/2017/07/elespañol2017_1.jpg
END:VEVENT
BEGIN:VEVENT
DTSTART;TZID=Europe/Madrid:20170816T200000
DTEND;TZID=Europe/Madrid:20170816T200000
DTSTAMP:20260422T090156
CREATED:20170812T100745Z
LAST-MODIFIED:20170812T103003Z
UID:86574-1502913600-1502913600@universidadlibreinfantes.es
SUMMARY:Ciclo: Buscando a Quevedo
DESCRIPTION:Ciclo: Buscando a Quevedo \nEl 16 de agosto\, a las 20:00\, en el Salón de Actos del Ayuntamiento \nPrimera Conferencia: Quevedo al servicio de la España que tanto le hizo sufrir\nProfesor: D. Carlos Guerrero Carranza \nSegunda Conferencia: (Pendiente)\nProfesor: D. Miguel Fernández de Sevilla Morales
URL:https://universidadlibreinfantes.es/event/ciclo-buscando-a-quevedo/
LOCATION:Salón de Actos del Ayuntamiento\, Plaza Mayor\, s/n\, Villanueva de los Infantes\, Ciudad Real\, 13320\, España
CATEGORIES:Conferencias,Quevedo
ATTACH;FMTTYPE=image/jpeg:https://universidadlibreinfantes.es/wp-content/uploads/2017/08/buscando-a-quevedo_2017-e1502532342701.jpg
END:VEVENT
BEGIN:VEVENT
DTSTART;TZID=Europe/Madrid:20170817T120000
DTEND;TZID=Europe/Madrid:20170817T200000
DTSTAMP:20260422T090156
CREATED:20170812T102248Z
LAST-MODIFIED:20170812T102940Z
UID:86580-1502971200-1503000000@universidadlibreinfantes.es
SUMMARY:Ciclo: El futuro del Campo de Montiel
DESCRIPTION:Ciclo: El futuro del Campo de Montiel \nEl 17 de agosto a 12:00 h. y a las 20:00 h\, en el Salón de Actos del Ayuntamiento \nDirector: D. Rafael M. Ruiz Rodríguez \nPrimera Conferencia: La Conservación del Patrimonio Artístico.\nProfesor: D. Diego Gallego Fernández-Pacheco \nSegunda Conferencia: El Turismo\, una alternativa para el Campo de Montiel.\nProfesor: D. Juan Francisco Rivero Domínguez \nMESA REDONDA: Infantes y el Campo de Montiel ante el Siglo XXI; Oportunidades y amenazas (HORA 20:00)
URL:https://universidadlibreinfantes.es/event/ciclo-el-futuro-del-campo-de-montiel/
LOCATION:Salón de Actos del Ayuntamiento\, Plaza Mayor\, s/n\, Villanueva de los Infantes\, Ciudad Real\, 13320\, España
CATEGORIES:Campo de Montiel,Conferencias,Mesa Redonda
ATTACH;FMTTYPE=image/jpeg:https://universidadlibreinfantes.es/wp-content/uploads/2017/08/campomontiel_2017.jpg
END:VEVENT
BEGIN:VEVENT
DTSTART;TZID=Europe/Madrid:20170818T200000
DTEND;TZID=Europe/Madrid:20170818T200000
DTSTAMP:20260422T090156
CREATED:20170812T162720Z
LAST-MODIFIED:20170812T162807Z
UID:86608-1503086400-1503086400@universidadlibreinfantes.es
SUMMARY:Ciclo: El cine como fuente historiográfica
DESCRIPTION:Ciclo: El cine como fuente historiográfica \nEl 18 de agosto a las 20.00h\, en el Salón de Actos del Ayuntamiento \nConferencia: Noticiarios cinematográficos otrora prohibidos. Una exhibición excepcional. \nProfesor: D. Miguel Castro Muñiz
URL:https://universidadlibreinfantes.es/event/ciclo-el-cine-como-fuente-historiografica/
LOCATION:Salón de Actos del Ayuntamiento\, Plaza Mayor\, s/n\, Villanueva de los Infantes\, Ciudad Real\, 13320\, España
CATEGORIES:Cine,Conferencias
ATTACH;FMTTYPE=image/jpeg:https://universidadlibreinfantes.es/wp-content/uploads/2017/08/cine_2017.jpg
END:VEVENT
BEGIN:VEVENT
DTSTART;TZID=Europe/Madrid:20170823T200000
DTEND;TZID=Europe/Madrid:20170823T200000
DTSTAMP:20260422T090156
CREATED:20170812T163656Z
LAST-MODIFIED:20170812T164252Z
UID:86612-1503518400-1503518400@universidadlibreinfantes.es
SUMMARY:Ciclo: Salud y Vida
DESCRIPTION:Ciclo: Salud y Vida \nEl 23 de agosto a las 20.00h\, en la Casa de Cultura La Alhóndiga \nPrimera Conferencia: Salud y probióticos\, ¿cómo funcionan? \nProfesor: D. Esteban Rodríguez Sánchez \n  \nSegunda Conferencia: Las nuevas dietas del Siglo XXI \nProfesor: D. Antonio Luis Villarino Marín
URL:https://universidadlibreinfantes.es/event/ciclo-salud-y-vida/
LOCATION:Casa de Cultura La Alhóndiga\, Calle General Pérez Ballesteros\, 1\, Villanueva de los Infantes\, Ciudad Real\, 13320\, España
CATEGORIES:Conferencias,Salud
ATTACH;FMTTYPE=image/jpeg:https://universidadlibreinfantes.es/wp-content/uploads/2017/08/salud_2017.jpg
END:VEVENT
END:VCALENDAR