BEGIN:VCALENDAR
VERSION:2.0
PRODID:-//Universidad Libre de Infantes - ECPv6.15.20//NONSGML v1.0//EN
CALSCALE:GREGORIAN
METHOD:PUBLISH
X-ORIGINAL-URL:https://universidadlibreinfantes.es
X-WR-CALDESC:Eventos para Universidad Libre de Infantes
REFRESH-INTERVAL;VALUE=DURATION:PT1H
X-Robots-Tag:noindex
X-PUBLISHED-TTL:PT1H
BEGIN:VTIMEZONE
TZID:Europe/Madrid
BEGIN:DAYLIGHT
TZOFFSETFROM:+0100
TZOFFSETTO:+0200
TZNAME:CEST
DTSTART:20140330T010000
END:DAYLIGHT
BEGIN:STANDARD
TZOFFSETFROM:+0200
TZOFFSETTO:+0100
TZNAME:CET
DTSTART:20141026T010000
END:STANDARD
BEGIN:DAYLIGHT
TZOFFSETFROM:+0100
TZOFFSETTO:+0200
TZNAME:CEST
DTSTART:20150329T010000
END:DAYLIGHT
BEGIN:STANDARD
TZOFFSETFROM:+0200
TZOFFSETTO:+0100
TZNAME:CET
DTSTART:20151025T010000
END:STANDARD
BEGIN:DAYLIGHT
TZOFFSETFROM:+0100
TZOFFSETTO:+0200
TZNAME:CEST
DTSTART:20160327T010000
END:DAYLIGHT
BEGIN:STANDARD
TZOFFSETFROM:+0200
TZOFFSETTO:+0100
TZNAME:CET
DTSTART:20161030T010000
END:STANDARD
END:VTIMEZONE
BEGIN:VEVENT
DTSTART;TZID=Europe/Madrid:20150912T123000
DTEND;TZID=Europe/Madrid:20150912T133000
DTSTAMP:20260425T232604
CREATED:20150301T064416Z
LAST-MODIFIED:20150301T064416Z
UID:17915-1442061000-1442064600@universidadlibreinfantes.es
SUMMARY:Quevedo y su relación con los intelectuales de la época
DESCRIPTION:Conferencia Magistral impartida por el Dr. D. Santiago Fernández de Mosquera (Catedrático de la Universidad de Santiago de Compostela)
URL:https://universidadlibreinfantes.es/event/quevedo-y-su-relacion-con-los-intelectuales-de-la-epoca/
LOCATION:Fundación José María de Jaime\, Calle Rey Juan Carlos\, 32\, Villanueva de los Infantes\, Ciudad Real\, 13320\, España
CATEGORIES:Conferencias,Quevedo
ATTACH;FMTTYPE=image/jpeg:https://universidadlibreinfantes.es/wp-content/uploads/2015/03/conferenciaQuevedo-1.jpg
END:VEVENT
BEGIN:VEVENT
DTSTART;TZID=Europe/Madrid:20150912T133000
DTEND;TZID=Europe/Madrid:20150912T143000
DTSTAMP:20260425T232604
CREATED:20150612T091639Z
LAST-MODIFIED:20150612T091639Z
UID:30680-1442064600-1442068200@universidadlibreinfantes.es
SUMMARY:El Testamento de Quevedo
DESCRIPTION:Conferencia impartida por D. José Ramón Rodríguez  Bustamante (Presidente de Honor de la Fundación «José María de Jaime Rodríguez»)
URL:https://universidadlibreinfantes.es/event/el-testamento-de-quevedo/
LOCATION:Fundación José María de Jaime\, Calle Rey Juan Carlos\, 32\, Villanueva de los Infantes\, Ciudad Real\, 13320\, España
CATEGORIES:Conferencias,Quevedo
ATTACH;FMTTYPE=image/jpeg:https://universidadlibreinfantes.es/wp-content/uploads/2015/06/testamento-1.jpg
END:VEVENT
END:VCALENDAR