BEGIN:VCALENDAR
VERSION:2.0
PRODID:-//Universidad Libre de Infantes - ECPv6.15.20//NONSGML v1.0//EN
CALSCALE:GREGORIAN
METHOD:PUBLISH
X-WR-CALNAME:Universidad Libre de Infantes
X-ORIGINAL-URL:https://universidadlibreinfantes.es
X-WR-CALDESC:Eventos para Universidad Libre de Infantes
REFRESH-INTERVAL;VALUE=DURATION:PT1H
X-Robots-Tag:noindex
X-PUBLISHED-TTL:PT1H
BEGIN:VTIMEZONE
TZID:Europe/Paris
BEGIN:DAYLIGHT
TZOFFSETFROM:+0100
TZOFFSETTO:+0200
TZNAME:CEST
DTSTART:20150329T010000
END:DAYLIGHT
BEGIN:STANDARD
TZOFFSETFROM:+0200
TZOFFSETTO:+0100
TZNAME:CET
DTSTART:20151025T010000
END:STANDARD
BEGIN:DAYLIGHT
TZOFFSETFROM:+0100
TZOFFSETTO:+0200
TZNAME:CEST
DTSTART:20160327T010000
END:DAYLIGHT
BEGIN:STANDARD
TZOFFSETFROM:+0200
TZOFFSETTO:+0100
TZNAME:CET
DTSTART:20161030T010000
END:STANDARD
BEGIN:DAYLIGHT
TZOFFSETFROM:+0100
TZOFFSETTO:+0200
TZNAME:CEST
DTSTART:20170326T010000
END:DAYLIGHT
BEGIN:STANDARD
TZOFFSETFROM:+0200
TZOFFSETTO:+0100
TZNAME:CET
DTSTART:20171029T010000
END:STANDARD
END:VTIMEZONE
BEGIN:VEVENT
DTSTART;TZID=Europe/Paris:20160409T100000
DTEND;TZID=Europe/Paris:20160414T120000
DTSTAMP:20260423T123039
CREATED:20160315T100631Z
LAST-MODIFIED:20160315T100631Z
UID:55916-1460196000-1460635200@universidadlibreinfantes.es
SUMMARY:Jornadas Cervantinas: "Conmemorando El IV Centenario De La Muerte De D. Miguel De Cervantes En Canarias"
DESCRIPTION:Del 9 al 14 de abril de 2016\,  en La Villa de la Orotava (Canarias)\, se celebrarán las Jornadas Cervantinas “Conmemorando el IV Centenario de la muerte de D. Miguel de Cervantes». Para su realización la Asociación Alisios ha contado con el patrocinio del Cabildo de Tenerife y el Ayuntamiento de La Orotava\, como principales promotores de la idea. La necesidad de reunir para la ocasión a destacados especialistas en la materia exigía\, por otra parte\, contar con la colaboración de instituciones con experiencia suficiente en el tratamiento y conocimiento de contenidos cervantinos. La entidad elegida para ello fue la Universidad Libre de Infantes\, ubicada en Villanueva de los Infantes (Ciudad Real)\, que junto al apoyo del Ayuntamiento de la localidad han contribuido\, de manera decisiva\, a la celebración de las JORNADAS CERVANTINAS. \nMás información: http://jornadascervantinas.com/ \nPROGRAMA \n9 de abril de 2016 \n10:00 H. ACTO PROTOCOLARIO en el Salón de Plenos del Excelentísimo Ayuntamiento de la Villa de La Orotava.\nRecepción de profesores invitados\, ilustres autoridades visitantes y equipo directivo de la Universidad Libre de Infantes por las autoridades locales y miembros de la “Asociación Cultural Alisios” Encuentro Canarias-América. \n10:45 H. ACTOS EN LA PLAZA DE LA CONSTITUCIÓN.\nLas actividades de esta mañana de recepción se celebrarán al aire libre\, salvo la representación teatral que tendrá lugar en el Salón de Actos de San Agustín. \nPLAN DE ACTIVIDADES \nEspectáculo de Juglares\, acompañando a los invitados al acto protocolario y a las autoridades civiles y académicas desde el Ayuntamiento a la Plaza de la Constitución. \nPresentación oficial de las Jornadas Cervantinas por miembros de la Asociación Alisios Encuentro Canarias-América. \nIntervención del Rector de la Universidad Libre de Infantes\, del Ilmo. Sr. Alcalde de Villanueva de los Infantes y del Ilmo Sr. Alcalde de la Villa de La Orotava. \nIntervención de la escritora orotavense Cecilia Domínguez Luís\, Premio Canarias 2015. \nRepresentación del grupo “Teatrejo Cervantino” de los entremeses: “El viejo celoso” y “La cueva de Salamanca”. Lectura dramatizada que correrá a cargo de alumnos de la Escuela municipal de teatro de Los Realejos\, dirigidos por el profesor D. Manuel García. \nExposición de paneles relativos a distintas facetas (matemáticas\, geografía\, cine\, etc\,.) tratadas en el Quijote\, de la colección del autodidacta orotavense D. Domingo Hernández en la sala de exposiciones de la Casa de la Juventud. \nExposición en el vestíbulo o plaza del Ayuntamiento de paneles relativos al Quijote de Ibarra. \nExposición de paneles elaborados por alumnado de la Universidad Europea de Canarias. \nTaller de elaboración artesanal de libros. Estará abierto desde el inicio de las actividades en la plaza. \nConcierto de la Banda Municipal de Música de La Orotava\, que interpretará piezas populares del siglo XVII\, bajo la dirección de D. Julio Castañeda. \nTras finalización del concierto\, actuación de la Tuna universitaria de la Fa­cultad de Ciencias Económicas de La Universidad de La Laguna. \nLos actos culminarán con una degustación de productos típicos de Castilla-La Mancha y de la comarca del Valle de La Orotava. \nCICLO DE CONFERENCIAS EN EL SALÓN DE ACTOS DEL  EXCMO. AYUNTAMIENTO. \n11 de abril de 2016 \n16:3o H. PRESENTACióN DE LAS JORNADAS. \n17:oo-18:3o H. CONFERENCIA INAUGURAL. “Ideales y fracturas de la cris­ tiandad en tiempos  de Cervantes.”A cargo del Dr. D. José Ignacio Ruiz Rodríguez. Investigador y Catedrático de His toria  Moderna de la Universidad de Alcalá  de He­ nares\, Académico correspondiente de la Real  Academia de la Historia y Rector de la Universidad Libre de Infantes. \n18:3o H. COMUNICACIÓN del  alumno  de la Universidad de La  Laguna\, D. Alberto  García  Aguilar: “Sancho Panza\,  un escudero  moderno”:. \n18:30-19:00 H. DESCANSO \n19:00-20:3o H. CONFERENCIA. “La música popular en tiempos  de Cervantes” a cargo  del Dr. D. Fernando Pérez  Ruano. Prof. de Música\,  Doctor en Musicología formado en el Real  Conservatorio de Madrid. Compositor musical.  Especialista en música del Siglo de Oro. Mención “Doctor Europeus”. \n12 de abril de 2016 \n16:30-17:45 H. CONFERENCIA. “Cervantes y Quevedo\, espías del Siglo de Oro” a cargo de D. Carlos Guerrero Carranza\, Coronel  retirado\, Diplomado en Operaciones Especiales\, Master en Seguridad y Defensa\, Historiador\, Licenciado en  Educación Física y Deportes\, estudioso  de nuestros escritores del Siglo de Oro\, Director del Palacio de Buenavista. \n17:45-19:00 H. CONFERENCIA. “Los Entremeses de Cervantes” a cargo del Profesor\, Dr. D. Manuel Pérez  Jiménez\, Investigador en Teoría  e Historia del Teatro. Director del Departamento de Filología\, Comunicación y Documentación y Catedrá­ tico de Literatura Española  de la Universidad de Alcalá  de Henares. \n18:30-19:00 H. DESCANSO \n19:30-20:15 H. CONFERENCIA. ”Alrededor de 1615: la España  Histórica”\, a car­ go del Dr. D.Alfredo Alvar Ezquerra Profesor  de Investigación del Consejo Superior de Investigaciones Científicas y Académico correspondiente de la Real  Academia de la Historia. \n13 de abril de 2016 \n14:30-17:45 H. CONFERENCIA.”Quijote y Sancho en la isla de Cuba” a cargo del profesor  Dr. D. Miguel  Castro  Muñiz. Fundador de ”Alisios-Canarias” Encuentro América en Cuba. Fundador también  de 16&8mm Worldwide Films Archive. Coor­dinador  Académico de la Universidad Libre de Infantes. \n17:45-18:I5 H. COMUNICACIÓN a cargo  de Dña. Vanessa Rosa Serafín\, alumna de la Universidad  de La Laguna\, “Metaficción cervantina  en La noche americana de Truffaut. \n18:15-18:45 H. COMUNICACIÓN a  cargo de D. Alejandro Hernández Pérez\,del alumno  de la Universidad  de La Laguna\, “La niebla cervantina en El show de Truman”. \n18:45-19:15 H. DESCANSO \n19:15-21:00 H. CONFERENCIA. “Variaciones  en torno  a la muerte  de un caballero inmortal”. \nEsta conferencia  consta de tres partes: \n-Dra. Dña. Dra. Doña Isabel Castells Malina. \n-Prof.  D. José Antonio Ramos Arteaga. \nÑaque  de la muerte  de D. Quijote.  Texto  y dramaturgia: Agrupación de Teatro  de la Facultad de Filología de la Universidad  de La Laguna. \n-D.Carlos Brito  Díaz. \nCoro Camerata  Lacunensis de la Universidad  de La  Laguna: Dirigido por D. José Herrero. \nTres epitafios Ü947-1953)……………………………Rodolfo Halffter Ü9oo-1987) \n-Para la sepultura de D. Quijote. \n-Para la sepultura de Dulcinea. \n-Para la sepultura de Sancho Panza. \nCLAUSURA \nTras  la finalización de la actuación coral\, tendrá lugar  la clausura de las Jornadas  Cervantinas\, a cargo  de las autoridades civiles y académicas asistentes al acto. \nLos  días de celebración de las Jornadas Cervantinas Días  (11\,12 y 13) tendrán su contrapartida en los Institutos de nuestra Villa que imparten bachillerato. Los profesores invitados impartirán  charlas en cada uno  de ellos en el siguiente horario: \nI.E.S OROTAVA “MANUEL GONZALEZ PÉREZ”\, miércoles 13 a las 10.45 horas\, charla del Profesor D. Manuel Pérez  Jiménez. \nI.E.S “VILLALBA HERVAS”\, miércoles 13 a las II.15 horas\, charla del Profesor Alfredo Alvar. \nI.E.S “RAFAEL AROZARENA”\, miércoles a las 11.15\, charla  del Profesor Jose Ignacio Ruíz Rodríguez. \n14 de abril de 2016 \n8.00 H. VISITA  con  el  alumnado y  profesores  de  los lES participantes al IES “Mencey Acaymo” de Güímar que atesora  una importante colección  de ejemplares del Quijote\, así como obras  pictóricas de artistas canarios e internacionales que se exhiben en el museo de dicho  centro. \nEl profesor responsable Coordinador del “Museo El Quijote en ell mundo”\, D. José Felipe García Silva impartirá una charla titulada: La difusión mundial Quijote y sus traducciones”.
URL:https://universidadlibreinfantes.es/event/jornadas-cervantinas-conmemorando-el-iv-centenario-de-la-muerte-de-d-miguel-de-cervantes-en-canarias/
LOCATION:Villa de la Orotava\, Plaza del Ayuntamiento\, s/n\, La Orotava\, Santa Cruz de Tenerife\, 38300\, España
CATEGORIES:Cervantes,Conferencias,Jornadas Cervantinas
ATTACH;FMTTYPE=image/png:https://universidadlibreinfantes.es/wp-content/uploads/2016/03/CARTEL-OFICIAL-con-patroc._p1-1.png
END:VEVENT
END:VCALENDAR